BEGIN:VCALENDAR
VERSION:2.0
PRODID:-//jEvents 2.0 for Joomla//EN
CALSCALE:GREGORIAN
METHOD:PUBLISH
BEGIN:VEVENT
UID:fd21a3bd45d2cbe5b119e6842b810506
CATEGORIES:Veranstaltungen
CREATED:20191202T160910
SUMMARY:Lehrervertreterwahl SGA
DESCRIPTION:
DTSTAMP:20260425T154138
DTSTART:20191209T070000
DTEND:20191209T110000
SEQUENCE:0
TRANSP:OPAQUE
END:VEVENT
END:VCALENDAR