BEGIN:VCALENDAR
VERSION:2.0
PRODID:-//jEvents 2.0 for Joomla//EN
CALSCALE:GREGORIAN
METHOD:PUBLISH
BEGIN:VEVENT
UID:de7d6b2c4aa35c8fb9cd4330cea0ac61
CATEGORIES:Veranstaltungen
CREATED:20191206T114955
SUMMARY:Schüleraustausch Cles in Reutte
DESCRIPTION:
DTSTAMP:20260425T120957
DTSTART:20200217T070000
DTEND:20200221T160000
SEQUENCE:0
TRANSP:OPAQUE
END:VEVENT
END:VCALENDAR