BEGIN:VCALENDAR
VERSION:2.0
PRODID:-//jEvents 2.0 for Joomla//EN
CALSCALE:GREGORIAN
METHOD:PUBLISH
BEGIN:VEVENT
UID:6705f277327a3aa3e3c4d71cd0641384
CATEGORIES:Veranstaltungen
CREATED:20200122T151240
SUMMARY:Cocktailseminar HLW
DESCRIPTION:
DTSTAMP:20260425T135546
DTSTART:20200415T110000
DTEND:20200415T150000
SEQUENCE:0
TRANSP:OPAQUE
END:VEVENT
END:VCALENDAR