BEGIN:VCALENDAR
VERSION:2.0
PRODID:-//jEvents 2.0 for Joomla//EN
CALSCALE:GREGORIAN
METHOD:PUBLISH
BEGIN:VEVENT
UID:772c2c4bea1fe354b0171702326b1819
CATEGORIES:Veranstaltungen
CREATED:20200207T115637
SUMMARY:English in Action, 3s
DESCRIPTION:
DTSTAMP:20260425T153848
DTSTART:20200217T070000
DTEND:20200221T160000
SEQUENCE:0
TRANSP:OPAQUE
END:VEVENT
END:VCALENDAR