BEGIN:VCALENDAR
VERSION:2.0
PRODID:-//jEvents 2.0 for Joomla//EN
CALSCALE:GREGORIAN
METHOD:PUBLISH
BEGIN:VEVENT
UID:7e880f9bc1c0db6a3b8e234296d5215d
CATEGORIES:Veranstaltungen
CREATED:20200218T175434
SUMMARY:Theaterworkshop Kellerei, 1wa und 1wb
DESCRIPTION:
DTSTAMP:20260425T154139
DTSTART:20200224T070000
DTEND:20200224T123000
SEQUENCE:0
TRANSP:OPAQUE
END:VEVENT
END:VCALENDAR