BEGIN:VCALENDAR
VERSION:2.0
PRODID:-//jEvents 2.0 for Joomla//EN
CALSCALE:GREGORIAN
METHOD:PUBLISH
BEGIN:VEVENT
UID:ad55d2439ea5693cca1daa0f129170b8
CATEGORIES:Veranstaltungen
CREATED:20200218T175517
SUMMARY:Theaterworkshop Kellerei, 1a und 1s
DESCRIPTION:
DTSTAMP:20260425T190817
DTSTART:20200302T070000
DTEND:20200302T123000
SEQUENCE:0
TRANSP:OPAQUE
END:VEVENT
END:VCALENDAR