BEGIN:VCALENDAR
VERSION:2.0
PRODID:-//jEvents 2.0 for Joomla//EN
CALSCALE:GREGORIAN
METHOD:PUBLISH
BEGIN:VEVENT
UID:5a77bf80b7b055ea115f5ac06e9a34e9
CATEGORIES:Veranstaltungen
CREATED:20200303T103104
SUMMARY:Besuch Physiotherapeutin Lagg Kathrin 2w und 5w
DESCRIPTION:
DTSTAMP:20260425T135833
DTSTART:20200416T093000
DTEND:20200416T113000
SEQUENCE:0
TRANSP:OPAQUE
END:VEVENT
END:VCALENDAR