BEGIN:VCALENDAR
VERSION:2.0
PRODID:-//jEvents 2.0 for Joomla//EN
CALSCALE:GREGORIAN
METHOD:PUBLISH
BEGIN:VEVENT
UID:46754a12560812c1c38e27c90836caf2
CATEGORIES:Veranstaltungen
CREATED:20200304T111417
SUMMARY:Exkursion 1a Fa. Rauch Rankweil
DESCRIPTION:
DTSTAMP:20260425T135822
DTSTART:20200421T060000
DTEND:20200421T150000
SEQUENCE:0
TRANSP:OPAQUE
END:VEVENT
END:VCALENDAR