BEGIN:VCALENDAR
VERSION:2.0
PRODID:-//jEvents 2.0 for Joomla//EN
CALSCALE:GREGORIAN
METHOD:PUBLISH
BEGIN:VEVENT
UID:40e3cd0688893aebf34ae60e4a161e44
CATEGORIES:Termine
CREATED:20200318T010756
SUMMARY:digitaler Unterricht lt. Stundenplan
DESCRIPTION:
DTSTAMP:20260425T175143
DTSTART;VALUE=DATE:20200316
DTEND;VALUE=DATE:20200404
SEQUENCE:0
TRANSP:OPAQUE
END:VEVENT
END:VCALENDAR