BEGIN:VCALENDAR
VERSION:2.0
PRODID:-//jEvents 2.0 for Joomla//EN
CALSCALE:GREGORIAN
METHOD:PUBLISH
BEGIN:VEVENT
UID:5a9f4e8129b863b4decf9d7889ae21ff
CATEGORIES:Veranstaltungen
CREATED:20200504T170505
SUMMARY:Schulbeginn für Abschlussklassen
DESCRIPTION:
DTSTAMP:20260425T202356
DTSTART:20200504T060000
DTEND:20200504T100000
SEQUENCE:0
TRANSP:OPAQUE
END:VEVENT
END:VCALENDAR