BEGIN:VCALENDAR
VERSION:2.0
PRODID:-//jEvents 2.0 for Joomla//EN
CALSCALE:GREGORIAN
METHOD:PUBLISH
BEGIN:VEVENT
UID:a85b4d9075d4cb9ab78ea1be62a02b22
CATEGORIES:Veranstaltungen
CREATED:20200504T170617
SUMMARY:Schulbeginn für alle restlichen Klassen
DESCRIPTION:
DTSTAMP:20260425T154022
DTSTART:20200603T060000
DTEND:20200603T100000
SEQUENCE:0
TRANSP:OPAQUE
END:VEVENT
END:VCALENDAR