BEGIN:VCALENDAR
VERSION:2.0
PRODID:-//jEvents 2.0 for Joomla//EN
CALSCALE:GREGORIAN
METHOD:PUBLISH
BEGIN:VEVENT
UID:41f5fe9ddbcddd81085c4cfbcf9d7e4b
CATEGORIES:Veranstaltungen
CREATED:20200507T153436
SUMMARY:schriftl RDP BFK/BWRR
DESCRIPTION:
DTSTAMP:20260425T202046
DTSTART:20200525T060000
DTEND:20200525T110000
SEQUENCE:0
TRANSP:OPAQUE
END:VEVENT
END:VCALENDAR