BEGIN:VCALENDAR
VERSION:2.0
PRODID:-//jEvents 2.0 for Joomla//EN
CALSCALE:GREGORIAN
METHOD:PUBLISH
BEGIN:VEVENT
UID:9eb2e1f39850ce066b094fe286a452aa
CATEGORIES:Veranstaltungen
CREATED:20200507T153507
SUMMARY:schriftl RDP D
DESCRIPTION:
DTSTAMP:20260425T202038
DTSTART:20200526T060000
DTEND:20200526T110000
SEQUENCE:0
TRANSP:OPAQUE
END:VEVENT
END:VCALENDAR