BEGIN:VCALENDAR
VERSION:2.0
PRODID:-//jEvents 2.0 for Joomla//EN
CALSCALE:GREGORIAN
METHOD:PUBLISH
BEGIN:VEVENT
UID:f394fc639154411dde9e9d646c1bc5a0
CATEGORIES:Veranstaltungen
CREATED:20200507T153626
SUMMARY:schriftl. RDP M/MAM
DESCRIPTION:
DTSTAMP:20260425T202540
DTSTART:20200528T060000
DTEND:20200528T110000
SEQUENCE:0
TRANSP:OPAQUE
END:VEVENT
END:VCALENDAR