BEGIN:VCALENDAR
VERSION:2.0
PRODID:-//jEvents 2.0 for Joomla//EN
CALSCALE:GREGORIAN
METHOD:PUBLISH
BEGIN:VEVENT
UID:95d4d39bf4a1236982907b8db0639be9
CATEGORIES:Veranstaltungen
CREATED:20200507T153655
SUMMARY:schriftl. RDP FR
DESCRIPTION:
DTSTAMP:20260425T202111
DTSTART:20200529T060000
DTEND:20200529T110000
SEQUENCE:0
TRANSP:OPAQUE
END:VEVENT
END:VCALENDAR