BEGIN:VCALENDAR
VERSION:2.0
PRODID:-//jEvents 2.0 for Joomla//EN
CALSCALE:GREGORIAN
METHOD:PUBLISH
BEGIN:VEVENT
UID:c3485f24b3752b8c0194269a50e2779a
CATEGORIES:Veranstaltungen
CREATED:20200507T153722
SUMMARY:schriftl. RDP IT
DESCRIPTION:
DTSTAMP:20260425T172717
DTSTART:20200603T060000
DTEND:20200603T110000
SEQUENCE:0
TRANSP:OPAQUE
END:VEVENT
END:VCALENDAR