BEGIN:VCALENDAR
VERSION:2.0
PRODID:-//jEvents 2.0 for Joomla//EN
CALSCALE:GREGORIAN
METHOD:PUBLISH
BEGIN:VEVENT
UID:f62c558e26f6c1a57a9e065096b48eac
CATEGORIES:Veranstaltungen
CREATED:20200507T153811
SUMMARY:mündl. Kompensationsprüfungen BFK
DESCRIPTION:
DTSTAMP:20260425T172245
DTSTART:20200622T060000
DTEND:20200622T120000
SEQUENCE:0
TRANSP:OPAQUE
END:VEVENT
END:VCALENDAR