BEGIN:VCALENDAR
VERSION:2.0
PRODID:-//jEvents 2.0 for Joomla//EN
CALSCALE:GREGORIAN
METHOD:PUBLISH
BEGIN:VEVENT
UID:f9590a383a1ce8aa413aa69bd0894a91
CATEGORIES:Veranstaltungen
CREATED:20200507T153855
SUMMARY:mündl. standardisierte Kompensationsprüfungen
DESCRIPTION:
DTSTAMP:20260425T153844
DTSTART:20200623T060000
DTEND:20200624T150000
SEQUENCE:0
TRANSP:OPAQUE
END:VEVENT
END:VCALENDAR