BEGIN:VCALENDAR
VERSION:2.0
PRODID:-//jEvents 2.0 for Joomla//EN
CALSCALE:GREGORIAN
METHOD:PUBLISH
BEGIN:VEVENT
UID:e516a8d986e09c48ec81bad72cf52644
CATEGORIES:Veranstaltungen
CREATED:20200608T120952
SUMMARY:Abschlussfeier 5wa
DESCRIPTION:
DTSTAMP:20260425T122534
DTSTART:20200625T153000
DTEND:20200625T170000
SEQUENCE:0
TRANSP:OPAQUE
END:VEVENT
END:VCALENDAR