BEGIN:VCALENDAR
VERSION:2.0
PRODID:-//jEvents 2.0 for Joomla//EN
CALSCALE:GREGORIAN
METHOD:PUBLISH
BEGIN:VEVENT
UID:3f460b06ba6c49ea18b15920386bdaba
CATEGORIES:Veranstaltungen
CREATED:20200608T121024
SUMMARY:Abschlussfeier 5wb
DESCRIPTION:
DTSTAMP:20260425T172117
DTSTART:20200626T153000
DTEND:20200626T170000
SEQUENCE:0
TRANSP:OPAQUE
END:VEVENT
END:VCALENDAR