BEGIN:VCALENDAR
VERSION:2.0
PRODID:-//jEvents 2.0 for Joomla//EN
CALSCALE:GREGORIAN
METHOD:PUBLISH
BEGIN:VEVENT
UID:434b03339463af2e5b808980d375b268
CATEGORIES:Veranstaltungen
CREATED:20200608T121051
SUMMARY:Abschlussfeier 5a
DESCRIPTION:
DTSTAMP:20260425T154024
DTSTART:20200629T153000
DTEND:20200629T170000
SEQUENCE:0
TRANSP:OPAQUE
END:VEVENT
END:VCALENDAR