BEGIN:VCALENDAR
VERSION:2.0
PRODID:-//jEvents 2.0 for Joomla//EN
CALSCALE:GREGORIAN
METHOD:PUBLISH
BEGIN:VEVENT
UID:3159d3e95f23b3cd0e513b02309dd936
CATEGORIES:Veranstaltungen
CREATED:20200608T121119
SUMMARY:Abschlussfeier 3s
DESCRIPTION:
DTSTAMP:20260425T153854
DTSTART:20200630T153000
DTEND:20200630T170000
SEQUENCE:0
TRANSP:OPAQUE
END:VEVENT
END:VCALENDAR