BEGIN:VCALENDAR
VERSION:2.0
PRODID:-//jEvents 2.0 for Joomla//EN
CALSCALE:GREGORIAN
METHOD:PUBLISH
BEGIN:VEVENT
UID:2f2dded4a6e56f5e2efbceb69c0968d5
CATEGORIES:Veranstaltungen
CREATED:20200924T163241
SUMMARY:Schulbeginn 4W
DESCRIPTION:
DTSTAMP:20260425T231933
DTSTART:20201005T060000
DTEND:20201005T120000
SEQUENCE:0
TRANSP:OPAQUE
END:VEVENT
END:VCALENDAR