BEGIN:VCALENDAR
VERSION:2.0
PRODID:-//jEvents 2.0 for Joomla//EN
CALSCALE:GREGORIAN
METHOD:PUBLISH
BEGIN:VEVENT
UID:576a018c4b6b6c153ebd3f8e7fc377f7
CATEGORIES:Veranstaltungen
CREATED:20200924T163334
SUMMARY:Fototermin mit Foto Sulzer
DESCRIPTION:
DTSTAMP:20260425T232707
DTSTART:20201007T060000
DTEND:20201008T130000
SEQUENCE:0
TRANSP:OPAQUE
END:VEVENT
END:VCALENDAR