BEGIN:VCALENDAR
VERSION:2.0
PRODID:-//jEvents 2.0 for Joomla//EN
CALSCALE:GREGORIAN
METHOD:PUBLISH
BEGIN:VEVENT
UID:f97a548ae305cfd621d7744dc0e6429c
CATEGORIES:Veranstaltungen
CREATED:20200924T163411
SUMMARY:Kompensationsprüfungen 1. NT
DESCRIPTION:
DTSTAMP:20260425T232635
DTSTART:20201008T060000
DTEND:20201008T100000
SEQUENCE:0
TRANSP:OPAQUE
END:VEVENT
END:VCALENDAR