BEGIN:VCALENDAR
VERSION:2.0
PRODID:-//jEvents 2.0 for Joomla//EN
CALSCALE:GREGORIAN
METHOD:PUBLISH
BEGIN:VEVENT
UID:9a2cf42fb7622ca96027481149362784
CATEGORIES:Veranstaltungen
CREATED:20200924T163445
SUMMARY:Nationalfeiertag - schulfrei
DESCRIPTION:
DTSTAMP:20260426T004202
DTSTART:20201026T070000
DTEND:20201026T160000
SEQUENCE:0
TRANSP:OPAQUE
END:VEVENT
END:VCALENDAR