BEGIN:VCALENDAR
VERSION:2.0
PRODID:-//jEvents 2.0 for Joomla//EN
CALSCALE:GREGORIAN
METHOD:PUBLISH
BEGIN:VEVENT
UID:ad7db652ed7d8e264448ec64ab1bf0d7
CATEGORIES:Veranstaltungen
CREATED:20200924T163651
SUMMARY:Herbstferien
DESCRIPTION:
DTSTAMP:20260425T232446
DTSTART:20201027T070000
DTEND:20201031T160000
SEQUENCE:0
TRANSP:OPAQUE
END:VEVENT
END:VCALENDAR