BEGIN:VCALENDAR
VERSION:2.0
PRODID:-//jEvents 2.0 for Joomla//EN
CALSCALE:GREGORIAN
METHOD:PUBLISH
BEGIN:VEVENT
UID:cee59946d17bc1520403983b5b716a05
CATEGORIES:Veranstaltungen
CREATED:20200929T105537
SUMMARY:Klassensprecherwahlen
DESCRIPTION:
DTSTAMP:20260425T232120
DTSTART:20201005T060000
DTEND:20201005T100000
SEQUENCE:0
TRANSP:OPAQUE
END:VEVENT
END:VCALENDAR