BEGIN:VCALENDAR
VERSION:2.0
PRODID:-//jEvents 2.0 for Joomla//EN
CALSCALE:GREGORIAN
METHOD:PUBLISH
BEGIN:VEVENT
UID:09e5c89491fc50a0b245f6e8014ac580
CATEGORIES:Veranstaltungen
CREATED:20200929T113910
SUMMARY:Schulsprecherwahlen
DESCRIPTION:
DTSTAMP:20260425T231533
DTSTART:20201019T060000
DTEND:20201019T065000
SEQUENCE:0
TRANSP:OPAQUE
END:VEVENT
END:VCALENDAR