BEGIN:VCALENDAR
VERSION:2.0
PRODID:-//jEvents 2.0 for Joomla//EN
CALSCALE:GREGORIAN
METHOD:PUBLISH
BEGIN:VEVENT
UID:062c2a1aee3f010025d5f8f132253c9b
CATEGORIES:Veranstaltungen
CREATED:20201013T093312
SUMMARY:Bewerbungsseminar 3WB
DESCRIPTION:
DTSTAMP:20260425T232727
DTSTART:20201015T120000
DTEND:20201015T140000
SEQUENCE:0
TRANSP:OPAQUE
END:VEVENT
END:VCALENDAR