BEGIN:VCALENDAR
VERSION:2.0
PRODID:-//jEvents 2.0 for Joomla//EN
CALSCALE:GREGORIAN
METHOD:PUBLISH
BEGIN:VEVENT
UID:0c31e558c004029647b7e0d8d04937a5
CATEGORIES:Veranstaltungen
CREATED:20201013T093340
SUMMARY:Bewerbungsseminar 3WA
DESCRIPTION:
DTSTAMP:20260425T232400
DTSTART:20201022T120000
DTEND:20201022T140000
SEQUENCE:0
TRANSP:OPAQUE
END:VEVENT
END:VCALENDAR