BEGIN:VCALENDAR
VERSION:2.0
PRODID:-//jEvents 2.0 for Joomla//EN
CALSCALE:GREGORIAN
METHOD:PUBLISH
BEGIN:VEVENT
UID:74cd500f10d19bbceeca546505996e14
CATEGORIES:Veranstaltungen
CREATED:20201021T113759
SUMMARY:Erste Hilfe Kurs 3wa
DESCRIPTION:
DTSTAMP:20260425T231855
DTSTART:20201023T060000
DTEND:20201024T100000
SEQUENCE:0
TRANSP:OPAQUE
END:VEVENT
END:VCALENDAR