BEGIN:VCALENDAR
VERSION:2.0
PRODID:-//jEvents 2.0 for Joomla//EN
CALSCALE:GREGORIAN
METHOD:PUBLISH
BEGIN:VEVENT
UID:27f4c40d25cbc1e3b47cc49a9989c31a
CATEGORIES:Termine
CREATED:20170914T103330
SUMMARY:Tag der offenen Tür
DESCRIPTION:
DTSTAMP:20260423T170245
DTSTART:20180112T080000
DTEND:20180112T160000
SEQUENCE:0
TRANSP:OPAQUE
END:VEVENT
END:VCALENDAR