BEGIN:VCALENDAR
VERSION:2.0
PRODID:-//jEvents 2.0 for Joomla//EN
CALSCALE:GREGORIAN
METHOD:PUBLISH
BEGIN:VEVENT
UID:2bc77cdd4708c020d113ca023f25e616
CATEGORIES:Termine
CREATED:20170914T103507
SUMMARY:Weihnachtsferien Ende
DESCRIPTION:
DTSTAMP:20260423T185148
DTSTART;VALUE=DATE:20180107
DTEND;VALUE=DATE:20180108
SEQUENCE:0
TRANSP:OPAQUE
END:VEVENT
END:VCALENDAR