BEGIN:VCALENDAR
VERSION:2.0
PRODID:-//jEvents 2.0 for Joomla//EN
CALSCALE:GREGORIAN
METHOD:PUBLISH
BEGIN:VEVENT
UID:14a1b0167ffe7a708261bfab5f17642a
CATEGORIES:Prüfungen
CREATED:20170914T103600
SUMMARY:2. NT RDP schriftlich
DESCRIPTION:
DTSTAMP:20260424T013821
DTSTART;VALUE=DATE:20180108
DTEND;VALUE=DATE:20180118
SEQUENCE:0
TRANSP:OPAQUE
END:VEVENT
END:VCALENDAR