BEGIN:VCALENDAR
VERSION:2.0
PRODID:-//jEvents 2.0 for Joomla//EN
CALSCALE:GREGORIAN
METHOD:PUBLISH
BEGIN:VEVENT
UID:268545430080fc9e074cafe146a40f55
CATEGORIES:Termine
CREATED:20170914T103747
SUMMARY:Notenschluss 1. Semester
DESCRIPTION:
DTSTAMP:20260423T163847
DTSTART:20180206T090000
SEQUENCE:0
TRANSP:OPAQUE
END:VEVENT
END:VCALENDAR