BEGIN:VCALENDAR
VERSION:2.0
PRODID:-//jEvents 2.0 for Joomla//EN
CALSCALE:GREGORIAN
METHOD:PUBLISH
BEGIN:VEVENT
UID:0219f3290d8341273a4413d1de060442
CATEGORIES:Termine
CREATED:20170914T103839
SUMMARY:Notenkonferenz 1. Semester
DESCRIPTION:
DTSTAMP:20260423T170341
DTSTART:20180206T150000
DTEND:20180206T190000
SEQUENCE:0
TRANSP:OPAQUE
END:VEVENT
END:VCALENDAR