BEGIN:VCALENDAR
VERSION:2.0
PRODID:-//jEvents 2.0 for Joomla//EN
CALSCALE:GREGORIAN
METHOD:PUBLISH
BEGIN:VEVENT
UID:c747d317ab8e848605be71dafd97104e
CATEGORIES:Termine
CREATED:20170914T104622
SUMMARY:2. Autonomtag
DESCRIPTION:
DTSTAMP:20260423T210225
DTSTART;VALUE=DATE:20180430
DTEND;VALUE=DATE:20180501
SEQUENCE:0
TRANSP:OPAQUE
END:VEVENT
END:VCALENDAR