BEGIN:VCALENDAR
VERSION:2.0
PRODID:-//jEvents 2.0 for Joomla//EN
CALSCALE:GREGORIAN
METHOD:PUBLISH
BEGIN:VEVENT
UID:4d296fdf3a877650538bb53dd7ec7999
CATEGORIES:Termine
CREATED:20170914T104708
SUMMARY:3. Autonomtag
DESCRIPTION:
DTSTAMP:20260424T040506
DTSTART;VALUE=DATE:20180511
DTEND;VALUE=DATE:20180512
SEQUENCE:0
TRANSP:OPAQUE
END:VEVENT
END:VCALENDAR