BEGIN:VCALENDAR
VERSION:2.0
PRODID:-//jEvents 2.0 for Joomla//EN
CALSCALE:GREGORIAN
METHOD:PUBLISH
BEGIN:VEVENT
UID:b48996f283bff43a3bc3f245ba3de180
CATEGORIES:Termine
CREATED:20170914T104912
SUMMARY:4. Autonomtag
DESCRIPTION:
DTSTAMP:20260424T045248
DTSTART;VALUE=DATE:20180601
DTEND;VALUE=DATE:20180602
SEQUENCE:0
TRANSP:OPAQUE
END:VEVENT
END:VCALENDAR