BEGIN:VCALENDAR
VERSION:2.0
PRODID:-//jEvents 2.0 for Joomla//EN
CALSCALE:GREGORIAN
METHOD:PUBLISH
BEGIN:VEVENT
UID:0c480c36c96abeb7978d40ebb5ce32f0
CATEGORIES:Termine
CREATED:20180115T183308
SUMMARY:Semesterkonferenz
DESCRIPTION:
DTSTAMP:20260423T163902
DTSTART:20180206T150000
DTEND:20180206T180000
SEQUENCE:0
TRANSP:OPAQUE
END:VEVENT
END:VCALENDAR