BEGIN:VCALENDAR
VERSION:2.0
PRODID:-//jEvents 2.0 for Joomla//EN
CALSCALE:GREGORIAN
METHOD:PUBLISH
BEGIN:VEVENT
UID:7ce2b595730d1ead5be9142ea395fa49
CATEGORIES:Termine
CREATED:20180115T183528
SUMMARY:Anmeldung für Schuljahr 2018-2019
DESCRIPTION:
DTSTAMP:20260423T190611
DTSTART;VALUE=DATE:20180209
DTEND;VALUE=DATE:20180303
SEQUENCE:0
TRANSP:OPAQUE
END:VEVENT
END:VCALENDAR