BEGIN:VCALENDAR
VERSION:2.0
PRODID:-//jEvents 2.0 for Joomla//EN
CALSCALE:GREGORIAN
METHOD:PUBLISH
BEGIN:VEVENT
UID:06ef144b41166cb50f1f55b617f039ae
CATEGORIES:Prüfungen
CREATED:20180115T183641
SUMMARY:2. Nebentermin mündlich
DESCRIPTION:
DTSTAMP:20260423T214842
DTSTART:20180208T070000
DTEND:20180208T110000
SEQUENCE:0
TRANSP:OPAQUE
END:VEVENT
END:VCALENDAR