BEGIN:VCALENDAR
VERSION:2.0
PRODID:-//jEvents 2.0 for Joomla//EN
CALSCALE:GREGORIAN
METHOD:PUBLISH
BEGIN:VEVENT
UID:dfa78e7bec15f668f8e3b6f83f1bba0f
CATEGORIES:Veranstaltungen
CREATED:20180115T183729
SUMMARY:Reise 4. HAK
DESCRIPTION:
DTSTAMP:20260423T234458
DTSTART;VALUE=DATE:20180219
DTEND;VALUE=DATE:20180224
SEQUENCE:0
TRANSP:OPAQUE
END:VEVENT
END:VCALENDAR