BEGIN:VCALENDAR
VERSION:2.0
PRODID:-//jEvents 2.0 for Joomla//EN
CALSCALE:GREGORIAN
METHOD:PUBLISH
BEGIN:VEVENT
UID:400e898fe26ba63140ec78047d3a4466
CATEGORIES:Veranstaltungen
CREATED:20180115T183914
SUMMARY:Reutte in Cles Partnerschule
DESCRIPTION:
DTSTAMP:20260423T234433
DTSTART;VALUE=DATE:20180319
DTEND;VALUE=DATE:20180324
SEQUENCE:0
TRANSP:OPAQUE
END:VEVENT
END:VCALENDAR