BEGIN:VCALENDAR
VERSION:2.0
PRODID:-//jEvents 2.0 for Joomla//EN
CALSCALE:GREGORIAN
METHOD:PUBLISH
BEGIN:VEVENT
UID:227056a687e8bc3504697a22327523ec
CATEGORIES:Veranstaltungen
CREATED:20180219T134615
SUMMARY:Cles in Reutte (Partnerschule)
DESCRIPTION:
DTSTAMP:20260423T235607
DTSTART;VALUE=DATE:20180226
DTEND;VALUE=DATE:20180303
SEQUENCE:0
TRANSP:OPAQUE
END:VEVENT
END:VCALENDAR