BEGIN:VCALENDAR
VERSION:2.0
PRODID:-//jEvents 2.0 for Joomla//EN
CALSCALE:GREGORIAN
METHOD:PUBLISH
BEGIN:VEVENT
UID:30dee50b9e09ff6bf514cf10ce4946a5
CATEGORIES:Veranstaltungen
CREATED:20180219T134703
SUMMARY:Kontaktco - Workshop 2. Klassen
DESCRIPTION:
DTSTAMP:20260423T235740
DTSTART;VALUE=DATE:20180220
DTEND;VALUE=DATE:20180222
SEQUENCE:0
TRANSP:OPAQUE
END:VEVENT
END:VCALENDAR