BEGIN:VCALENDAR
VERSION:2.0
PRODID:-//jEvents 2.0 for Joomla//EN
CALSCALE:GREGORIAN
METHOD:PUBLISH
BEGIN:VEVENT
UID:3d4be11f74a672d8a768e2502791203d
CATEGORIES:Veranstaltungen
CREATED:20180219T134756
SUMMARY:päd. Konferenz
DESCRIPTION:
DTSTAMP:20260423T232903
DTSTART:20180221T150000
DTEND:20180221T170000
SEQUENCE:0
TRANSP:OPAQUE
END:VEVENT
END:VCALENDAR